BEGIN:VCALENDAR
PRODID:-//github.com/rianjs/ical.net//NONSGML ical.net 4.0//EN
VERSION:2.0
BEGIN:VEVENT
DESCRIPTION:
DTEND:20250915T170000Z
DTSTAMP:20250903T085809Z
DTSTART:20250915T160000Z
LAST-MODIFIED:20250903T085852Z
LOCATION:Bergen offentlige bibliotek\, Strømgaten 3
SEQUENCE:0
SUMMARY:Beredskap på taket – urban matproduksjon med MATTAK
UID:d917037c-77fa-4186-ab20-e17aeaad25fe@www.okouka.no
URL:https://www.okouka.no/lokale-oekouker/oekoveka-bergen/program/beredska
 p-paa-taket-urban-matproduksjon-med-mattak/
END:VEVENT
END:VCALENDAR
