BEGIN:VCALENDAR
PRODID:-//github.com/rianjs/ical.net//NONSGML ical.net 4.0//EN
VERSION:2.0
BEGIN:VEVENT
DESCRIPTION:Denne ettermiddagen får du et innblikk i fermentering – og lær
 er hvordan du kan bruke fermenterte råvarer på en kreativ og morsom måte.
DTSTAMP:20250903T140700Z
DTSTART;VALUE=DATE:20250917
LAST-MODIFIED:20250903T141411Z
LOCATION:Åsane bibliotek\, Åsane senter 52
SEQUENCE:0
SUMMARY:En smakebit av Gårdskokkens Kokeskole
UID:81bc6179-f330-44cb-831e-dfdd1db3ed6d@www.okouka.no
URL:https://www.okouka.no/lokale-oekouker/oekoveka-bergen/program/en-smake
 bit-av-gaardskokkens-kokeskole/
END:VEVENT
END:VCALENDAR
