BEGIN:VCALENDAR
PRODID:-//github.com/rianjs/ical.net//NONSGML ical.net 4.0//EN
VERSION:2.0
BEGIN:VEVENT
DESCRIPTION:Foredrag med Anna Milford - forsker i NIBIO  \n- tema dyrking 
 og beredskap i en by som Bergen
DTEND:20250922T170000Z
DTSTAMP:20250903T141613Z
DTSTART:20250922T160000Z
LAST-MODIFIED:20250903T142219Z
LOCATION:Åsane bibliotek\, Åsane senter 52
SEQUENCE:0
SUMMARY:Dyrking i Bergen: Er det viktig?
UID:d67b6735-1c34-4878-a7a6-9bdd561a4aa5@www.okouka.no
URL:https://www.okouka.no/lokale-oekouker/oekoveka-bergen/program/dyrking-
 i-bergen-er-det-viktig/
END:VEVENT
END:VCALENDAR
