BEGIN:VCALENDAR
PRODID:-//github.com/rianjs/ical.net//NONSGML ical.net 4.0//EN
VERSION:2.0
BEGIN:VEVENT
DESCRIPTION:Velkommen til spiselig høstmarked på Lystgården\, et årlig mar
 ked med fokus på lokale frukt og grønnsaker.
DTEND:20250921T140000Z
DTSTAMP:20250903T142546Z
DTSTART:20250921T100000Z
LAST-MODIFIED:20250903T143110Z
LOCATION:Lystgården
SEQUENCE:0
SUMMARY:Spiselig høstmarked på Lystgården 2025
UID:5c0f7022-854b-4567-84d0-34c8d893cbb3@www.okouka.no
URL:https://www.okouka.no/lokale-oekouker/oekoveka-bergen/program/spiselig
 -hoestmarked-paa-lystgaarden-2025/
END:VEVENT
END:VCALENDAR
