BEGIN:VCALENDAR
PRODID:-//github.com/rianjs/ical.net//NONSGML ical.net 4.0//EN
VERSION:2.0
BEGIN:VEVENT
DESCRIPTION:Agder Permakulturlag inviterer til foredrag\, film og mingling
DTEND:20250918T180000Z
DTSTAMP:20250904T225952Z
DTSTART:20250918T140000Z
LAST-MODIFIED:20250904T231403Z
LOCATION:Kulturfabrikken Mandal\, Keiser Nicolaus gate 6\, 4515 Mandal\,
SEQUENCE:0
SUMMARY:Åpne dager om matberedskap i fellesskap på Kulturfabrikken i Mandal
UID:48c4ac60-0152-4e86-ad1a-25daf14e8066@www.okouka.no
URL:https://www.okouka.no/lokale-oekouker/oekouka-agder/program/aapne-dage
 r-om-matberedskap-i-fellesskap-paa-kulturfabrikken-i-mandal/
END:VEVENT
END:VCALENDAR
