BEGIN:VCALENDAR
PRODID:-//github.com/rianjs/ical.net//NONSGML ical.net 4.0//EN
VERSION:2.0
BEGIN:VEVENT
DESCRIPTION:Agder Permakulturlag inviterer til hagevandring\, workshop og 
 film
DTEND:20250919T180000Z
DTSTAMP:20250904T231132Z
DTSTART:20250919T140000Z
LAST-MODIFIED:20250904T231139Z
LOCATION:Kulturfabrikken Mandal\, Keiser Nicolaus gate 6\, 4515 Mandal
SEQUENCE:0
SUMMARY:Åpne dager om matberedskap i fellesskap på Kulturfabrikken i Manda
 l (1)
UID:ec40b296-bc09-4472-bb4c-ff6e2185afb3@www.okouka.no
URL:https://www.okouka.no/lokale-oekouker/oekouka-agder/program/aapne-dage
 r-om-matberedskap-i-fellesskap-paa-kulturfabrikken-i-mandal-1/
END:VEVENT
END:VCALENDAR
