BEGIN:VCALENDAR
PRODID:-//github.com/rianjs/ical.net//NONSGML ical.net 4.0//EN
VERSION:2.0
BEGIN:VEVENT
DESCRIPTION:Meditativ hagevandring under Økoveka 🌱
DTEND:20250919T180000Z
DTSTAMP:20250905T092031Z
DTSTART:20250919T153000Z
LAST-MODIFIED:20250909T220904Z
LOCATION:Framnes gård\, Kismulvegen 61\, 5229 Kalandseidet
SEQUENCE:0
SUMMARY:Hagevandring Permakultur hagen
UID:2699b248-b209-4689-b7c6-9ff257a4f12f@www.okouka.no
URL:https://www.okouka.no/lokale-oekouker/oekoveka-bergen/program/hagevand
 ring-permakultur-hagen/
END:VEVENT
END:VCALENDAR
