BEGIN:VCALENDAR
PRODID:-//github.com/rianjs/ical.net//NONSGML ical.net 4.0//EN
VERSION:2.0
BEGIN:VEVENT
DESCRIPTION:FAMILIEDAG i Geitmyra skolehageSøndag 7. september kl. 12.00 -
  16.00 i skolehagen (inngang Kierchowgate 9)
DTEND:20250907T140000Z
DTSTAMP:20250905T125112Z
DTSTART:20250907T100000Z
LAST-MODIFIED:20250905T131509Z
LOCATION:Geitmyra Skolehage
SEQUENCE:0
SUMMARY:Familiedag i Geitmyra Skolehage
UID:0106926c-af81-4b15-98a0-97bb1c494a00@www.okouka.no
URL:https://www.okouka.no/lokale-oekouker/oekouka-oslo-og-akershus/program
 /familiedag-i-geitmyra-skolehage/
END:VEVENT
END:VCALENDAR
