BEGIN:VCALENDAR
PRODID:-//github.com/rianjs/ical.net//NONSGML ical.net 4.0//EN
VERSION:2.0
BEGIN:VEVENT
DESCRIPTION:
DTEND:20250913T150000Z
DTSTAMP:20250905T130139Z
DTSTART:20250913T140000Z
LAST-MODIFIED:20250905T131342Z
LOCATION:
SEQUENCE:0
SUMMARY:Å være i beredskap betyr at jorda er i bruk: «Den livsviktige jord
 a»
UID:302b8561-d94b-45c8-846b-34fc7724913c@www.okouka.no
URL:https://www.okouka.no/lokale-oekouker/oekouka-vestfold-og-telemark/pro
 gram/aa-vaere-i-beredskap-betyr-at-jorda-er-i-bruk-den-livsviktige-jorda/
END:VEVENT
END:VCALENDAR
