BEGIN:VCALENDAR
PRODID:-//github.com/rianjs/ical.net//NONSGML ical.net 4.0//EN
VERSION:2.0
BEGIN:VEVENT
DESCRIPTION:KRAFTDAGER!
DTEND:20250920T160000Z
DTSTAMP:20250905T143145Z
DTSTART:20250920T130000Z
LAST-MODIFIED:20250905T143206Z
LOCATION:Trond og tjommiene
SEQUENCE:0
SUMMARY:KRAFTDAGER på Trond & Tjommiene
UID:b84556dd-308f-4ed8-9229-23eb0e4144e6@www.okouka.no
URL:https://www.okouka.no/lokale-oekouker/oekouka-oslo-og-akershus/program
 /kraftdager-paa-trond-tjommiene/
END:VEVENT
END:VCALENDAR
